BEGIN:VCALENDAR
VERSION:2.0
PRODID:-//Tukios.com/
BEGIN:VEVENT
UID:6214193b-874b-4e44-97db-3b63dfbe468d@www.brainardfuneral.com
DTSTAMP:20260421T190658Z
DTSTART:20260502T160000Z
DTEND:20260502T200000Z
SUMMARY:Celebration of Life
DESCRIPTION:
URL:https://www.brainardfuneral.com/obituaries/barbara-kloppenburg-fabel
LOCATION:Brainard Funeral Home 5712 Memorial Court  Weston WI 54476
GEO:44.9043825;-89.5507213
END:VEVENT
END:VCALENDAR