BEGIN:VCALENDAR
VERSION:2.0
PRODID:-//Tukios.com/
BEGIN:VEVENT
UID:ffefe190-240c-4945-89c1-c3d4da21d9ed@www.brainardfuneral.com
DTSTAMP:20260426T011553Z
DTSTART:20260801
SUMMARY:Celebration of Life
DESCRIPTION:
URL:https://www.brainardfuneral.com/obituaries/bernice-corsten
LOCATION:Riverside Park 100 E Sherman St.  Wausau WI 54401
GEO:44.951986;-89.6380779
END:VEVENT
END:VCALENDAR