BEGIN:VCALENDAR
VERSION:2.0
PRODID:-//Tukios.com/
BEGIN:VEVENT
UID:39439342-9eb0-4a75-afa1-d8c39e960f8f@www.brainardfuneral.com
DTSTAMP:20260422T020819Z
DTSTART:20260508T210000Z
DTEND:20260509T000000Z
SUMMARY:Visitation
DESCRIPTION:
URL:https://www.brainardfuneral.com/obituaries/john-schremp
LOCATION: 522 Adams Street  Wausau WI 54403
GEO:44.9658196;-89.6235829
END:VEVENT
END:VCALENDAR