BEGIN:VCALENDAR
VERSION:2.0
PRODID:-//Tukios.com/
BEGIN:VEVENT
UID:820483a0-c5be-4a96-afd2-1984ea2275a1@www.brainardfuneral.com
DTSTAMP:20260422T020605Z
DTSTART:20260509T160000Z
DTEND:20260509T170000Z
SUMMARY:Mass
DESCRIPTION:
URL:https://www.brainardfuneral.com/obituaries/john-schremp
LOCATION:St. Francis Xavier Catholic Church 651 Mead Lane  Knowlton 
	(Mosinee) WI 54455
GEO:44.7133499;-89.680974
END:VEVENT
END:VCALENDAR