BEGIN:VCALENDAR
VERSION:2.0
PRODID:-//Tukios.com/
BEGIN:VEVENT
UID:b499a354-146d-47b4-883f-0d2169147044@www.brainardfuneral.com
DTSTAMP:20260422T020529Z
DTSTART:20260509T133000Z
DTEND:20260509T153000Z
SUMMARY:Mass
DESCRIPTION:
URL:https://www.brainardfuneral.com/obituaries/john-schremp
LOCATION:St. Francis Xavier Catholic Church 651 Mead Lane  Knowlton 
	(Mosinee) WI 54455
GEO:44.7133499;-89.680974
END:VEVENT
END:VCALENDAR