BEGIN:VCALENDAR
VERSION:2.0
PRODID:-//Tukios.com/
BEGIN:VEVENT
UID:eef6e56c-6323-42f0-8e3c-dc7e6395c425@www.brainardfuneral.com
DTSTAMP:20260420T193753Z
DTSTART:20260422T210000Z
DTEND:20260423T000000Z
SUMMARY:Visitation
DESCRIPTION:
URL:https://www.brainardfuneral.com/obituaries/wayne-lemmens
LOCATION:Brainard Funeral Home and Cremation Center- Everest Chapel 5712 
	Memorial Court  Weston WI 54476
GEO:44.9043825;-89.5507213
END:VEVENT
END:VCALENDAR