BEGIN:VCALENDAR
VERSION:2.0
PRODID:-//Tukios.com/
BEGIN:VEVENT
UID:2f2a132e-3d94-44a9-8c11-25472428a8a1@www.brainardfuneral.com
DTSTAMP:20260420T193312Z
DTSTART:20260423T170000Z
DTEND:20260423T180000Z
SUMMARY:Funeral Service
DESCRIPTION:
URL:https://www.brainardfuneral.com/obituaries/wayne-lemmens
LOCATION: 5712 Memorial Court  Weston WI 54476
GEO:44.9043825;-89.5507213
END:VEVENT
END:VCALENDAR